BEGIN:VCALENDAR
VERSION:2.0
PRODID:-//SINTUPERJ - UERJ | UENF - ECPv6.13.1//NONSGML v1.0//EN
CALSCALE:GREGORIAN
METHOD:PUBLISH
X-ORIGINAL-URL:http://www.sintuperj.org.br
X-WR-CALDESC:Eventos para SINTUPERJ - UERJ | UENF
REFRESH-INTERVAL;VALUE=DURATION:PT1H
X-Robots-Tag:noindex
X-PUBLISHED-TTL:PT1H
BEGIN:VTIMEZONE
TZID:America/Sao_Paulo
BEGIN:STANDARD
TZOFFSETFROM:-0300
TZOFFSETTO:-0300
TZNAME:-03
DTSTART:20240101T000000
END:STANDARD
END:VTIMEZONE
BEGIN:VEVENT
DTSTART;VALUE=DATE:20241217
DTEND;VALUE=DATE:20241218
DTSTAMP:20260419T153745
CREATED:20241210T201738Z
LAST-MODIFIED:20241217T192309Z
UID:11995-1734393600-1734479999@www.sintuperj.org.br
SUMMARY:Assembleia específica da sindicalizados - Prestação de contas
DESCRIPTION:
URL:http://www.sintuperj.org.br/evento/assembleia-especifica-da-sindicalizados-prestacao-de-contas/
ATTACH;FMTTYPE=image/jpeg:http://www.sintuperj.org.br/wp-content/uploads/2024/12/Padrao-de-divulgacao-Ano-2023-Convocacao-Assembleia-Site-1-scaled.jpg
END:VEVENT
END:VCALENDAR