BEGIN:VCALENDAR
VERSION:2.0
PRODID:-//SINTUPERJ - UERJ | UENF - ECPv6.13.1//NONSGML v1.0//EN
CALSCALE:GREGORIAN
METHOD:PUBLISH
X-WR-CALNAME:SINTUPERJ - UERJ | UENF
X-ORIGINAL-URL:https://www.sintuperj.org.br
X-WR-CALDESC:Eventos para SINTUPERJ - UERJ | UENF
REFRESH-INTERVAL;VALUE=DURATION:PT1H
X-Robots-Tag:noindex
X-PUBLISHED-TTL:PT1H
BEGIN:VTIMEZONE
TZID:America/Sao_Paulo
BEGIN:STANDARD
TZOFFSETFROM:-0300
TZOFFSETTO:-0300
TZNAME:-03
DTSTART:20250101T000000
END:STANDARD
END:VTIMEZONE
BEGIN:VEVENT
DTSTART;TZID=America/Sao_Paulo:20250310T160000
DTEND;TZID=America/Sao_Paulo:20250310T190000
DTSTAMP:20260420T134135
CREATED:20250308T160033Z
LAST-MODIFIED:20250308T172106Z
UID:12577-1741622400-1741633200@www.sintuperj.org.br
SUMMARY:SINTUPERJ CONVOCA: ATO 8M - DIA INTERNACIONAL DA MULHER
DESCRIPTION:SINTUPERJ CONVOCA:\nATO 8M – DIA INTERNACIONAL DA MULHER\nPela vida das mulheres\, sem anistia\, por comida no prato e pelo fim da escala 6×1\nData: Dia 10/03 (segunda-feira). \nHorário: Concentração às 16h. \nLocal: Candelária (Centro da cidade)\, com marcha rumo à Cinelândia.
URL:https://www.sintuperj.org.br/evento/sintuperj-convoca-ato-8m-dia-internacional-da-mulher/
LOCATION:Rio de Janeiro
ATTACH;FMTTYPE=image/png:https://www.sintuperj.org.br/wp-content/uploads/2025/03/Artes-para-publicacoes-Sintuperj-Site-640x480-2.png
END:VEVENT
END:VCALENDAR