BEGIN:VCALENDAR
VERSION:2.0
PRODID:-//SINTUPERJ - UERJ | UENF - ECPv6.13.1//NONSGML v1.0//EN
CALSCALE:GREGORIAN
METHOD:PUBLISH
X-ORIGINAL-URL:https://www.sintuperj.org.br
X-WR-CALDESC:Eventos para SINTUPERJ - UERJ | UENF
REFRESH-INTERVAL;VALUE=DURATION:PT1H
X-Robots-Tag:noindex
X-PUBLISHED-TTL:PT1H
BEGIN:VTIMEZONE
TZID:America/Sao_Paulo
BEGIN:STANDARD
TZOFFSETFROM:-0300
TZOFFSETTO:-0300
TZNAME:-03
DTSTART:20250101T000000
END:STANDARD
END:VTIMEZONE
BEGIN:VEVENT
DTSTART;TZID=America/Sao_Paulo:20250527T110000
DTEND;TZID=America/Sao_Paulo:20250527T140000
DTSTAMP:20260420T103627
CREATED:20250522T171057Z
LAST-MODIFIED:20250522T171213Z
UID:12957-1748343600-1748354400@www.sintuperj.org.br
SUMMARY:Todos ao “Dia D de Lutas”\, dia 27/05\, às 11h
DESCRIPTION:
URL:https://www.sintuperj.org.br/evento/todos-ao-dia-d-de-lutas-dia-27-05-as-11h/
LOCATION:Rio de Janeiro
END:VEVENT
END:VCALENDAR