BEGIN:VCALENDAR
VERSION:2.0
PRODID:-//SINTUPERJ - UERJ | UENF - ECPv6.13.1//NONSGML v1.0//EN
CALSCALE:GREGORIAN
METHOD:PUBLISH
X-ORIGINAL-URL:https://www.sintuperj.org.br
X-WR-CALDESC:Eventos para SINTUPERJ - UERJ | UENF
REFRESH-INTERVAL;VALUE=DURATION:PT1H
X-Robots-Tag:noindex
X-PUBLISHED-TTL:PT1H
BEGIN:VTIMEZONE
TZID:America/Sao_Paulo
BEGIN:STANDARD
TZOFFSETFROM:-0300
TZOFFSETTO:-0300
TZNAME:-03
DTSTART:20250101T000000
END:STANDARD
END:VTIMEZONE
BEGIN:VEVENT
DTSTART;TZID=America/Sao_Paulo:20250922T100000
DTEND;TZID=America/Sao_Paulo:20250922T120000
DTSTAMP:20260420T040921
CREATED:20250919T205251Z
LAST-MODIFIED:20250919T205251Z
UID:13515-1758535200-1758542400@www.sintuperj.org.br
SUMMARY:Assembleia dos técnicos da Uerj\, dia 22/09\, às 10h
DESCRIPTION:
URL:https://www.sintuperj.org.br/evento/assembleia-dos-tecnicos-da-uerj-dia-22-09-as-10h/
LOCATION:Rio de Janeiro
END:VEVENT
BEGIN:VEVENT
DTSTART;TZID=America/Sao_Paulo:20251014T140000
DTEND;TZID=America/Sao_Paulo:20251014T170000
DTSTAMP:20260420T040921
CREATED:20251013T101156Z
LAST-MODIFIED:20251013T101928Z
UID:13628-1760450400-1760461200@www.sintuperj.org.br
SUMMARY:SINTUPERJ E FOSPERJ CONVOCAM: Ato público em defesa do Rioprevidência
DESCRIPTION:Os atuais e futuros aposentados do funcionalismo público estadual estão sob grave ameaça. O Projeto de Lei n° 6035/2025 está previsto para ser votado na próxima terça-feira\, 14/10\, em sessão plenária da Assembleia Legislativa (Alerj). A proposta é um ataque direto ao caixa do Rioprevidência\, drenando os recursos do das contribuições dos trabalhadores. \nO Rioprevidência tem a missão de garantir a dignidade para aqueles que colaboraram com seu trabalho e seu suor para o desenvolvimento do Estado do Rio de Janeiro. Os recursos do órgão não podem ser usados como “caixinha” para outros fins. \nSENHORAS E SENHORES PARLAMENTARES! NÃO PERMITAM ESSE ATAQUE AO RIOPREVIDÊNCIA! DEFENDAM OS APOSENTADOS DO NOSSO ESTADO! \nESTAREMOS NA RUA\, EM FRENTE À ALERJ\, PARA MOSTRAR QUE TEMOS DISPOSIÇÃO PARA DEFENDER OS NOSSOS DIREITOS! \nSINTUPERJ E FOSPERJ CONVOCAM: Ato público em defesa do Rioprevidência\nData: Dia 14/10 (terça-feira).\nHorário: 14 horas.\nLocal: Prédio da Alerj – Rua da Ajuda\, n° 5\, Centro.\nOrganização: Fosperj – Fórum dos Servidores Públicos do Estado do Rio de Janeiro.\nObservação: O Sintuperj delibera através de sua Diretoria Executiva paralisação no dia 14/10\, a partir das 12h\, para que todos os servidores possam comparecer ao ato. \nPARTICIPE! VENHA DEFENDER SEU DIREITO À APOSENTADORIA!
URL:https://www.sintuperj.org.br/evento/sintuperj-e-fosperj-convocam-ato-publico-em-defesa-do-rioprevidencia/
LOCATION:Alerj\, Rua da Ajuda\, nº 5\, Centro - Rio de Janeiro\, Rio de Janeiro\, Brazil
ATTACH;FMTTYPE=image/png:https://www.sintuperj.org.br/wp-content/uploads/2025/10/Artes-para-publicacoes-Sintuperj-Site-640x480-1.png
END:VEVENT
BEGIN:VEVENT
DTSTART;TZID=America/Sao_Paulo:20251021T060000
DTEND;TZID=America/Sao_Paulo:20251021T100000
DTSTAMP:20260420T040921
CREATED:20251018T134342Z
LAST-MODIFIED:20251018T134642Z
UID:13665-1761026400-1761040800@www.sintuperj.org.br
SUMMARY:SINTUPERJ E FRENTE RIO CONTRA A REFORMA ADMINISTRATIVA CONVOCAM: Ato contra a proposta de Reforma Administrativa no Aeroporto Santos Dumont
DESCRIPTION:A FRENTE RIO CONTRA A REFORMA ADMINISTRATIVA\, formada por associações e sindicatos que têm como foco a defesa dos servidores\, convoca todos os servidores do funcionalismo público do Rio de Janeiro\, federais\, estaduais e municipais\, para o importante ato que será realizado na manhã da próxima terça-feira no Aeroporto Santos Dumont. \nNesta mobilização iremos abordar os deputados federais e senadores que estarão embarcando rumo à Brasília para levar aos mesmos a nossa insatisfação com a proposta de Reforma Administrativa\, que visa atacar os direitos mais básicos dos trabalhadores e transformar o serviço público em um espaço de precarização\, assédio moral e balcão de apadrinhados políticos. \nSENHORES DEPUTADOS E SENADORES\, NÓS QUEREMOS DIREITOS E NÃO ATAQUES! \n\nSINTUPERJ E FRENTE RIO CONTRA A REFORMA ADMINISTRATIVA CONVOCAM: \nAto contra a proposta de Reforma Administrativa no Aeroporto Santos Dumont \nData: Dia 21/10 (terça-feira). \nHorário: 06 horas. \nLocal: Aeroporto Santos Dumont – Praça Senador Salgado Filho\, s/nº\, Centro. \nOrganização: Frente Rio contra a Reforma Administrativa.
URL:https://www.sintuperj.org.br/evento/sintuperj-e-frente-rio-contra-a-reforma-administrativa-convocam-ato-contra-a-proposta-de-reforma-administrativa-no-aeroporto-santos-dumont/
LOCATION:Aeroporto Santos Dumont\, Praça Senador Salgado Filho\, s/nº\, Centro\, Rio de Janeiro\, Rio de Janeiro\, Brazil
ATTACH;FMTTYPE=image/png:https://www.sintuperj.org.br/wp-content/uploads/2025/10/Inserir-um-titulo.png
END:VEVENT
BEGIN:VEVENT
DTSTART;TZID=America/Sao_Paulo:20260309T120000
DTEND;TZID=America/Sao_Paulo:20260309T140000
DTSTAMP:20260420T040921
CREATED:20260306T172500Z
LAST-MODIFIED:20260306T172639Z
UID:14163-1773057600-1773064800@www.sintuperj.org.br
SUMMARY:SINTUPERJ CONVOCA: Ato dos servidores da Uerj – Chega de desvalorização!
DESCRIPTION:O Sintuperj convoca toda a comunidade universitária da Uerj\, em especial os servidores técnico-administrativos da instituição\, a dar um grito de BASTA contra toda a precarização imposta aos trabalhadores pelo Governo do Estado e Administração Central da Universidade. \nSão anos de direitos negados ou retirados! Os trabalhadores não agüentam mais! \nDIA 09/03\, ÀS 12H\, NO HALL DO QUEIJO (ANDAR TÉRREO\, PAVILHÃO JOÃO LYRA FILHO\, CAMPUS MARACANÃ DA UERJ)\, VAMOS NOS UNIR E AVISAR QUE ACABOU A PACIÊNCIA! \nQUEREMOS NOSSOS DIREITOS JÁ! \nSINTUPERJ CONVOCA:\nAto dos servidores da Uerj – Chega de desvalorização! \nData: Dia 09/03/2026 (segunda-feira). \nHorário: 12h. \nLocal: Hall do Queijo – Andar térreo\, pavilhão João Lyra Filho\, campus Maracanã da Universidade.
URL:https://www.sintuperj.org.br/evento/sintuperj-convoca-ato-dos-servidores-da-uerj-chega-de-desvalorizacao/
LOCATION:Uerj Campus Maracanã – Pavilhão João Lyra Filho – Hall do Queijo (andar térreo)\, Rua São Francisco Xavier\, 524 - Maracanã\, Rio de Janeiro\, Rio de Janeiro\, 20550-013\, Brazil
ATTACH;FMTTYPE=image/png:https://www.sintuperj.org.br/wp-content/uploads/2026/03/Artes-para-publicacoes-Sintuperj-Site-640x480-1-3.png
END:VEVENT
BEGIN:VEVENT
DTSTART;TZID=America/Sao_Paulo:20260324T140000
DTEND;TZID=America/Sao_Paulo:20260324T140000
DTSTAMP:20260420T040921
CREATED:20260320T144818Z
LAST-MODIFIED:20260320T144943Z
UID:14197-1774360800-1774360800@www.sintuperj.org.br
SUMMARY:SINTUPERJ CONVOCA: Assembleia Geral Extraordinária
DESCRIPTION:SINTUPERJ CONVOCA: Assembleia Geral Extraordinária\nData: Dia 24/03/2026 (terça-feira); \nHorário: 14 horas. \nLocal: Auditório 11 – 1° andar – Pavilhão João Lyra Filho – Campus Maracanã da Uerj. \nPauta: \n– Avaliação do Estado de Greve.
URL:https://www.sintuperj.org.br/evento/sintuperj-convoca-assembleia-geral-extraordinaria/
LOCATION:Auditório 11 – Pavilhão João Lyra Filho\, Rua São Francisco Xavier\, nº 524 - Campus Maracanã da Uerj\, Rio de Janeiro\, Rio de Janeiro\, 20550013\, Brazil
ATTACH;FMTTYPE=image/png:https://www.sintuperj.org.br/wp-content/uploads/2026/03/Artes-para-publicacoes-Sintuperj-Site-640x480-5.png
END:VEVENT
END:VCALENDAR