BEGIN:VCALENDAR
VERSION:2.0
PRODID:-//SINTUPERJ - UERJ | UENF - ECPv6.13.1//NONSGML v1.0//EN
CALSCALE:GREGORIAN
METHOD:PUBLISH
X-ORIGINAL-URL:https://www.sintuperj.org.br
X-WR-CALDESC:Eventos para SINTUPERJ - UERJ | UENF
REFRESH-INTERVAL;VALUE=DURATION:PT1H
X-Robots-Tag:noindex
X-PUBLISHED-TTL:PT1H
BEGIN:VTIMEZONE
TZID:America/Sao_Paulo
BEGIN:STANDARD
TZOFFSETFROM:-0300
TZOFFSETTO:-0300
TZNAME:-03
DTSTART:20260101T000000
END:STANDARD
END:VTIMEZONE
BEGIN:VEVENT
DTSTART;TZID=America/Sao_Paulo:20260324T140000
DTEND;TZID=America/Sao_Paulo:20260324T140000
DTSTAMP:20260419T191920
CREATED:20260320T144818Z
LAST-MODIFIED:20260320T144943Z
UID:14197-1774360800-1774360800@www.sintuperj.org.br
SUMMARY:SINTUPERJ CONVOCA: Assembleia Geral Extraordinária
DESCRIPTION:SINTUPERJ CONVOCA: Assembleia Geral Extraordinária\nData: Dia 24/03/2026 (terça-feira); \nHorário: 14 horas. \nLocal: Auditório 11 – 1° andar – Pavilhão João Lyra Filho – Campus Maracanã da Uerj. \nPauta: \n– Avaliação do Estado de Greve.
URL:https://www.sintuperj.org.br/evento/sintuperj-convoca-assembleia-geral-extraordinaria/
LOCATION:Auditório 11 – Pavilhão João Lyra Filho\, Rua São Francisco Xavier\, nº 524 - Campus Maracanã da Uerj\, Rio de Janeiro\, Rio de Janeiro\, 20550013\, Brazil
ATTACH;FMTTYPE=image/png:https://www.sintuperj.org.br/wp-content/uploads/2026/03/Artes-para-publicacoes-Sintuperj-Site-640x480-5.png
END:VEVENT
END:VCALENDAR